BEGIN:VCALENDAR
VERSION:2.0
PRODID:-//Absolute Run Augsburg - ECPv6.9.0//NONSGML v1.0//EN
CALSCALE:GREGORIAN
METHOD:PUBLISH
X-ORIGINAL-URL:https://absolute-run-augsburg.de
X-WR-CALDESC:Veranstaltungen für Absolute Run Augsburg
REFRESH-INTERVAL;VALUE=DURATION:PT1H
X-Robots-Tag:noindex
X-PUBLISHED-TTL:PT1H
BEGIN:VTIMEZONE
TZID:Europe/Berlin
BEGIN:DAYLIGHT
TZOFFSETFROM:+0100
TZOFFSETTO:+0200
TZNAME:CEST
DTSTART:20240331T010000
END:DAYLIGHT
BEGIN:STANDARD
TZOFFSETFROM:+0200
TZOFFSETTO:+0100
TZNAME:CET
DTSTART:20241027T010000
END:STANDARD
BEGIN:DAYLIGHT
TZOFFSETFROM:+0100
TZOFFSETTO:+0200
TZNAME:CEST
DTSTART:20250330T010000
END:DAYLIGHT
BEGIN:STANDARD
TZOFFSETFROM:+0200
TZOFFSETTO:+0100
TZNAME:CET
DTSTART:20251026T010000
END:STANDARD
BEGIN:DAYLIGHT
TZOFFSETFROM:+0100
TZOFFSETTO:+0200
TZNAME:CEST
DTSTART:20260329T010000
END:DAYLIGHT
BEGIN:STANDARD
TZOFFSETFROM:+0200
TZOFFSETTO:+0100
TZNAME:CET
DTSTART:20261025T010000
END:STANDARD
END:VTIMEZONE
BEGIN:VEVENT
DTSTART;TZID=Europe/Berlin:20260421T180000
DTEND;TZID=Europe/Berlin:20260421T210000
DTSTAMP:20260425T143612
CREATED:20260331T053649Z
LAST-MODIFIED:20260331T132503Z
UID:2411-1776794400-1776805200@absolute-run-augsburg.de
SUMMARY:Ladies Night presented by sportingWOMEN
DESCRIPTION:[vc_single_image image=“2412″ img_size=“medium“]Bereit\, gemeinsam zu strahlen? \n\nMit unserer exklusiven Ladies Night bringen wir dich in Bewegung\, schenken dir neue Energie und stimmen dich perfekt auf den sportingWOMEN Run ein.\n\nFreu dich auf einen inspirierenden Abend voller Bewegung\, Community und kleiner Highlights.\n\nDas erwartet dich:\n• Gemeinsamer Vorbereitungslauf (ca. 30 Teilnehmerinnen)\n• Exklusiver Shoppingvorteil: 10% auf Textilien & Sport-BHs\n• Ein liebevoll zusammengestelltes Give Away\n• Entspannende Yoga-Session mit Nadja Dietz (Yoga Matten und Rollen vor Ort vorhanden)\n• Zum Ausklang: ein Glas Sekt in gemütlicher Runde\n\nEgal ob du dich gezielt vorbereiten möchtest oder einfach Lust auf einen aktiven\, entspannten Abend hast – hier geht es um dich\, dein Wohlgefühl und die gemeinsame Zeit.
URL:https://absolute-run-augsburg.de/veranstaltungen/move-glow-dein-sportingwomen-prep-abend/
END:VEVENT
BEGIN:VEVENT
DTSTART;TZID=Europe/Berlin:20260416T173000
DTEND;TZID=Europe/Berlin:20260416T203000
DTSTAMP:20260425T143612
CREATED:20260401T045447Z
LAST-MODIFIED:20260401T045447Z
UID:2424-1776360600-1776371400@absolute-run-augsburg.de
SUMMARY:Adidas Testevent
DESCRIPTION:Feiert mit uns die Premiere. Adidas wird zum ersten mal mit Testschuhen beim Communityrun zu Gast sein. Überzeugt euch selber von den aktuellen Modellen aus der Adidas-Kollektion. Vom bequemen Daily Trainer Supernova Charge bis zum Carbon-Racer Adios Pro wird alles dabei sein. \nZusammen mit Red Bull und Adidas werden wir noch eine kleine Überraschun für euch vorbereiten. \nTestschuhausgabe ab 17:30 Uhr \nGemeinsame Testrunde ab 18:00 Uhr \n[vc_single_image image=“2425″ img_size=“Medium“]
URL:https://absolute-run-augsburg.de/veranstaltungen/adidas-testevent/
END:VEVENT
BEGIN:VEVENT
DTSTART;TZID=Europe/Berlin:20260226T173000
DTEND;TZID=Europe/Berlin:20260226T200000
DTSTAMP:20260425T143612
CREATED:20251219T082220Z
LAST-MODIFIED:20260121T103742Z
UID:2303-1772127000-1772136000@absolute-run-augsburg.de
SUMMARY:Community Run mit Test des neuen Glycerin Flex
DESCRIPTION:[vc_single_image image=“2311″ img_size=“medium“]Brooks bringt einen brandneuen Schuh an den Start – und am 26.02.26 hast Du die Möglichkeit\, ihn beim Communityrun exklusiv zu testen. \nNeben dem neuen Glycerin Flex stellt Brooks natürlich auch weitere Modelle zum Probieren bereit. Nach dem Lauf erwarten Dich wie immer Erdinger Alkoholfrei und kleine Snacks zum gemeinsamen Ausklang. \nUnd nicht vergessen: Das ist der erste Communityrun in unserer neuen Heimat!📍 Treffpunkt: Steingasse 9Freu Dich auf unseren neuen Community-Bereich – wir können es kaum erwarten\, ihn gemeinsam mit Dir einzuweihen.
URL:https://absolute-run-augsburg.de/veranstaltungen/community-run-mit-test-des-neuen-glycerin-flex/
END:VEVENT
BEGIN:VEVENT
DTSTART;TZID=Europe/Berlin:20251218T173000
DTEND;TZID=Europe/Berlin:20251218T210000
DTSTAMP:20260425T143612
CREATED:20251210T084303Z
LAST-MODIFIED:20251210T084303Z
UID:2237-1766079000-1766091600@absolute-run-augsburg.de
SUMMARY:XMAS-Run 2025
DESCRIPTION:Wir wollen das Jahr mit der besten Community Augsburgs ausklingen lassen. Gemeinsam schnürren wir noch einmal die Laufschuhe. Wer möchte kann auf Testschuhe von Brooks zurückgreifen. Im Anschluss werden wir bei Glühwein\, Punsch und Lebkuchen unsere Jahrestomola durchführen. \nWir freuen uns auf euren Besuch. \n[vc_single_image image=“774″ img_size=“medium“]
URL:https://absolute-run-augsburg.de/veranstaltungen/xmas-run-2025/
END:VEVENT
BEGIN:VEVENT
DTSTART;TZID=Europe/Berlin:20251127T173000
DTEND;TZID=Europe/Berlin:20251127T210000
DTSTAMP:20260425T143612
CREATED:20251112T120955Z
LAST-MODIFIED:20251112T120955Z
UID:2196-1764264600-1764277200@absolute-run-augsburg.de
SUMMARY:Community Run Saucony Test
DESCRIPTION:[vc_single_image image=“2197″]Teste mit uns die neuesten Modelle von Saucony. Die Schuhausgabe startet  um 17:30 Uhr. Im Anschluss gibt es wie immer Snacks & Getränke. Wir freuen uns auf euch.
URL:https://absolute-run-augsburg.de/veranstaltungen/community-run-saucony-test/
END:VEVENT
BEGIN:VEVENT
DTSTART;TZID=Europe/Berlin:20251016T173000
DTEND;TZID=Europe/Berlin:20251016T210000
DTSTAMP:20260425T143612
CREATED:20251009T152803Z
LAST-MODIFIED:20251014T085740Z
UID:2176-1760635800-1760648400@absolute-run-augsburg.de
SUMMARY:On Testevent
DESCRIPTION:[vc_single_image image=“2178″ img_size=“Medium“]Wir testen gemeinsam mit euch die neuen Produkte von On. Schuhausgabe ist ab 17:30 Uhr und ab 18:00 Uhr starten wir mit dem Lauf.
URL:https://absolute-run-augsburg.de/veranstaltungen/on-testevent/
END:VEVENT
BEGIN:VEVENT
DTSTART;TZID=Europe/Berlin:20251009T173000
DTEND;TZID=Europe/Berlin:20251009T200000
DTSTAMP:20260425T143612
CREATED:20251002T054359Z
LAST-MODIFIED:20251002T054359Z
UID:2141-1760031000-1760040000@absolute-run-augsburg.de
SUMMARY:True Motion Testevent
DESCRIPTION:[vc_single_image image=“2142″ img_size=“medium“]Der neue Solo 2 von True Motion ist ab dem 06.10.25 im Handel erhältlich. Nutze die Chancce und teste den Schuh nur 3 Tage später mit uns im Rahmen des Communityruns. Neben dem Solo 2 wird True Motion auch Klassiker wie den Nevos und den Aion mitbringen. Wie immer starten wir die Testschuhausgabe um 17:30 Uhr und drehen ab 18:00 Uhr mit euch eine gemeinsame Runde. \nIm Anschluss haben wir Erdinger Alkoholfrei und Snacks für euch vorbereitet. \nWir freuen uns auf euch.
URL:https://absolute-run-augsburg.de/veranstaltungen/true-motion-testevent/
END:VEVENT
BEGIN:VEVENT
DTSTART;TZID=Europe/Berlin:20250925T173000
DTEND;TZID=Europe/Berlin:20250925T200000
DTSTAMP:20260425T143612
CREATED:20250912T160320Z
LAST-MODIFIED:20250912T160320Z
UID:2094-1758821400-1758830400@absolute-run-augsburg.de
SUMMARY:Asics & Shokz Test and Trial
DESCRIPTION:[vc_single_image image=“2095″ img_size=“medium“]🚀 Test & Trial Event – ASICS Megablast & Shokz 🎧👟 \nAm 25.09.25 hast Du die Chance\, den brandneuen ASICS Megablast bei unserem Communityrun zu testen!Ab 17:30 Uhr startet die Testschuhausgabe – sichere Dir Dein Paar und spüre die Energie der neuen FF BLAST™ Technologie bei Deinem Lauf. \nAber das ist noch nicht alles: Gleichzeitig ist auch Shokz mit dabei und stellt Dir ihre innovativen On-Ear-Kopfhörer zum Ausprobieren zur Verfügung. So kannst Du nicht nur dynamische Schuhe\, sondern auch klaren Sound beim Laufen erleben. \n👉 Sei dabei\, probiere die Neuheiten aus und genieße einen sportlichen Abend mit unserer Community!
URL:https://absolute-run-augsburg.de/veranstaltungen/asics-shokz-test-and-trial/
END:VEVENT
BEGIN:VEVENT
DTSTART;TZID=Europe/Berlin:20250911T180000
DTEND;TZID=Europe/Berlin:20250911T203000
DTSTAMP:20260425T143612
CREATED:20250822T104954Z
LAST-MODIFIED:20250822T104954Z
UID:2066-1757613600-1757622600@absolute-run-augsburg.de
SUMMARY:Hoka Testevent
DESCRIPTION:[vc_single_image image=“2064″ img_size=“medium“]Testet mit uns gemeinsam den Rocket X3\, den Arahi und den Skyflow von Hoka. Die Schuhausgabe startet um 17:30 Uhr. Um 18:00 Uhr starten wir die gemeinsame Testrunde.
URL:https://absolute-run-augsburg.de/veranstaltungen/hoka-testevent-2/
END:VEVENT
BEGIN:VEVENT
DTSTART;TZID=Europe/Berlin:20250731T173000
DTEND;TZID=Europe/Berlin:20250731T210000
DTSTAMP:20260425T143612
CREATED:20250715T184524Z
LAST-MODIFIED:20250716T085313Z
UID:1986-1753983000-1753995600@absolute-run-augsburg.de
SUMMARY:Brooks Speed Test & Try
DESCRIPTION:Am 31.07.2025 geben wir gemeinsam mit Brooks und dem „6amclub“ Vollgas!Teste mit uns die brandneuen Modelle der Brooks Speed Collection – darunter der Hyperion 3\, Hyperion Max und der Glycerin May. \nWir laufen eine Strecke von etwa 6–8 km\, inklusive eines kurzen Abschnitts\, auf dem eure Top-Speed gemessen wird.Wer ist schneller als Josh Kerr\, der Olympiasieger über 1500 Meter? \nIm Anschluss laden wir euch auf Pizza und kühle Getränke ein. Mit etwas Glück gewinnt ihr bei unserer Verlosung ein Paar Hyperion 3 oder ein exklusives Apparel-Paket von Brooks. \nKommt vorbei\, testet mit uns – der Spaß steht wie immer im Vordergrund!
URL:https://absolute-run-augsburg.de/veranstaltungen/brooks-speed-test-try/
END:VEVENT
BEGIN:VEVENT
DTSTART;TZID=Europe/Berlin:20250320T173000
DTEND;TZID=Europe/Berlin:20250320T200000
DTSTAMP:20260425T143612
CREATED:20250221T131951Z
LAST-MODIFIED:20250221T135500Z
UID:1890-1742491800-1742500800@absolute-run-augsburg.de
SUMMARY:Hoka Testevent
DESCRIPTION:Komm vorbei und teste mit uns den neuen „Cielo X1 2.0“. Hoka hat sich hierfür auch wieder ein spannendes Event-Format ausgedacht. \nSeid gespannt- nur soviel vorweg: Es wird schnell \nDie Testschuhausgabe startet um 17:30 Uhr. \nAb 18:00 Uhr gehts los. \n 
URL:https://absolute-run-augsburg.de/veranstaltungen/hoka-testevent/
END:VEVENT
BEGIN:VEVENT
DTSTART;TZID=Europe/Berlin:20250313T080000
DTEND;TZID=Europe/Berlin:20250313T170000
DTSTAMP:20260425T143612
CREATED:20250310T194108Z
LAST-MODIFIED:20250313T084108Z
UID:1915-1741852800-1741885200@absolute-run-augsburg.de
SUMMARY:New Balance Test & Try
DESCRIPTION:Am 13.03.25 habt Ihr beim #communityrunaugsburg wieder die Möglichkeit zu testen.\nDiesmal ist @newbalancerunning vor Ort und hat jede Menge Testmaterial dabei.\nUm 17:30 Uhr startet die Testschuhausgabe- ab 18:00 Uhr laufen wir gemeinsam los.\nAlso schnappt euch eure #laufbuddys und kommt vorbei. Wir freuen uns auf euch.
URL:https://absolute-run-augsburg.de/veranstaltungen/new-balance-test-try/
END:VEVENT
BEGIN:VEVENT
DTSTART;TZID=Europe/Berlin:20250308T170000
DTEND;TZID=Europe/Berlin:20250308T190000
DTSTAMP:20260425T143612
CREATED:20250214T164814Z
LAST-MODIFIED:20250214T164814Z
UID:1865-1741453200-1741460400@absolute-run-augsburg.de
SUMMARY:Community Run Special A\Fair
DESCRIPTION:In 2025 heißt es endlich: anfassen\, ausprobieren\, entdecken und schlendern – und das alles an einem Ort. Die Messe Augsburg öffnet mit einem neuen Veranstaltungskonzept im März die Tore für die A\Fair  – der Erlebnismesse für die Region Augsburg-Schwaben!\nDie Messe bündelt die Themenwelten „Freizeit & Tourismus“\, „Heim & Genuss“ und „Region & Heimat“. Die A\FAIR ist somit DIE interaktive Erlebnismesse in Augsburg. Parallel dazu finden außerdem die Intersana \, die Immobilientage \, die VOLT und die Creativmesse  statt.\nAuch wir haben wieder einen Stand und freuen uns auf euren Besuch.\nCommunity Run Messe Special \nWann? Samstag 08.03.25 17:00 Uhr\nWas ? ca. 6km in lockerer Pace inkl. ON Testschuhe\nIm Anschluss bis 19:00 Uhr Get Together mit Snacks und Getränken\n\nDie ersten 30 Anmeldungen erhalten ein Freiticket für die Messe.\nWeitere Infos auf unserer Homepage.
URL:https://absolute-run-augsburg.de/veranstaltungen/community-run-special-afair/
END:VEVENT
BEGIN:VEVENT
DTSTART;TZID=Europe/Berlin:20250213T180000
DTEND;TZID=Europe/Berlin:20250213T220000
DTSTAMP:20260425T143612
CREATED:20241219T145505Z
LAST-MODIFIED:20250206T154746Z
UID:1763-1739469600-1739484000@absolute-run-augsburg.de
SUMMARY:Community Run mit Asics Testevent
DESCRIPTION:
URL:https://absolute-run-augsburg.de/veranstaltungen/community-run-mit-asics-testevent/
END:VEVENT
BEGIN:VEVENT
DTSTART;TZID=Europe/Berlin:20250130T180000
DTEND;TZID=Europe/Berlin:20250130T210000
DTSTAMP:20260425T143612
CREATED:20250124T101544Z
LAST-MODIFIED:20250124T101731Z
UID:1776-1738260000-1738270800@absolute-run-augsburg.de
SUMMARY:Brooks Test & Try
DESCRIPTION:Ihr wollt den neuen Brooks Glycerin 22 testen ? Dann schaut am 30.01.25 bei unserem #communityrunaugsburg vorbei. Brooks ist zu Gast und bringt viele Testschuhe mit. Wir laufen gemeinsam eine entspannte Runde durch Augsburg. Beim anschließenden „getthogether“ habt Ihr bei einem @erdingeralkoholfrei.de und #snacks noch die Möglichkeit euch auszutauschen. Die Absolute Run Crew – Augsburg  und das Team von Brooks freut sich auf euch.
URL:https://absolute-run-augsburg.de/veranstaltungen/brooks-test-try/
LOCATION:Absolute Run Augsburg\, Steingasse 9\, Augsburg\, Bayern\, 86150
END:VEVENT
BEGIN:VEVENT
DTSTART;TZID=Europe/Berlin:20241219T180000
DTEND;TZID=Europe/Berlin:20241219T210000
DTSTAMP:20260425T143612
CREATED:20241212T143553Z
LAST-MODIFIED:20241212T143553Z
UID:1723-1734631200-1734642000@absolute-run-augsburg.de
SUMMARY:X-MAS Run 2024
DESCRIPTION:[vc_single_image image=“774″ img_size=“large“]Wir starten mit euch zum letzten #communityrun des Jahres. Beim #xmasrun werden wir nach der gemütlichen Laufrunde das Jahr bei Glühwein\, Punsch und Lebkuchen ausklingen lassen. Treffpunkt ist wie immer um 18:00 Uhr. Natürlich werden wir auch wieder unsere #jahrestombola durchführen. Wir freuen uns auf euch.
URL:https://absolute-run-augsburg.de/veranstaltungen/x-mas-run-2024/
LOCATION:Absolute Run Augsburg\, Steingasse 9\, Augsburg\, Bayern\, 86150
ORGANIZER;CN="Absolute Run Augsburg":MAILTO:info@absolute-run-augsburg.de
END:VEVENT
BEGIN:VEVENT
DTSTART;TZID=Europe/Berlin:20241127T190000
DTEND;TZID=Europe/Berlin:20241127T213000
DTSTAMP:20260425T143612
CREATED:20241030T104525Z
LAST-MODIFIED:20241030T104525Z
UID:1686-1732734000-1732743000@absolute-run-augsburg.de
SUMMARY:10x Transalpine Run - Zu Fuß über die Alpen
DESCRIPTION:Zu Fuß über die Alpen und das sogar im Laufschritt\, nicht alleine sondern im Team. Gemeinsam durch höhen und tiefen\, das ist der Transalpine Run. Für Benjamin Klöppel wurde nach 10 Jahren der Traum war und er konnte mit seiner Laufpartnerin Claudia Rosegger einen der schwersten Etappenläufe in seiner Altersklasse gewinnen. In seinem Videovortrag nimmt dich Benni mit auf seine 10 jährige Reise über die Alpen mit viel Höhen und Tiefen bis hin zum Platz ganz oben auf dem Podest. \nDer Vortrag ist kostenlos\, wir bitten jedoch zusammen mit Benjamin Klöppel um eine kostenlose Spende für das Kinderhospiz in Ulm. \n 
URL:https://absolute-run-augsburg.de/veranstaltungen/10x-transalpine-run-zu-fuss-ueber-die-alpen/
END:VEVENT
BEGIN:VEVENT
DTSTART;TZID=Europe/Berlin:20241107T180000
DTEND;TZID=Europe/Berlin:20241107T210000
DTSTAMP:20260425T143612
CREATED:20240917T091741Z
LAST-MODIFIED:20240917T091741Z
UID:1660-1731002400-1731013200@absolute-run-augsburg.de
SUMMARY:Community Run NEW BALANCE1080 Special
DESCRIPTION:Kommt vorbei und testet mit uns exklusiv den neuen NewBalance 1080. \nWeitere Infos zum Event folgen in kürze. \n 
URL:https://absolute-run-augsburg.de/veranstaltungen/community-run-new-balance1080-special/
END:VEVENT
BEGIN:VEVENT
DTSTART;TZID=Europe/Berlin:20240926T173000
DTEND;TZID=Europe/Berlin:20240926T200000
DTSTAMP:20260425T143612
CREATED:20240916T055036Z
LAST-MODIFIED:20240916T055036Z
UID:1655-1727371800-1727380800@absolute-run-augsburg.de
SUMMARY:Hoka Mach X Mach Out Relay Edition
DESCRIPTION:Am 26.09.24 drücken wir beim #communityrun Augsburg auf die Tube. Wir testen den neuen MAch X2 und werden in einer Teamchallenge 30 Minuten lang „Vollgas“ geben. Der Spaß am gemeinsamen laufen sollte aber natürlich wieder im Vordergrund stehen. Ab 17:30 Uhr startet die Testschuhausgabe. Um 18:00 Uhr laufen wir los. Nach dem Lauf gibt es wie immer Snacks\, Getränke und einen Austausch unter Läufer/innen. \nWir freuen uns auf euch.
URL:https://absolute-run-augsburg.de/veranstaltungen/hoka-mach-x-mach-out-relay-edition/
END:VEVENT
BEGIN:VEVENT
DTSTART;TZID=Europe/Berlin:20240912T173000
DTEND;TZID=Europe/Berlin:20240912T203000
DTSTAMP:20260425T143612
CREATED:20240906T140443Z
LAST-MODIFIED:20240906T140443Z
UID:1647-1726162200-1726173000@absolute-run-augsburg.de
SUMMARY:Community Run mit True Motion Testschuhen
DESCRIPTION:Komm vorbei und teste mit uns die Modelle von True Motion Running. \nDie Testschuhausgabe startet um 17:30 Uhr. Wir laufen ab 18:00 Uhr in verschiedenen Tempogruppen auf unsere ca. 6-8 km lange Laufrunde durch Augsburg.
URL:https://absolute-run-augsburg.de/veranstaltungen/community-run-mit-true-motion-testschuhen/
ATTACH;FMTTYPE=image/png:https://absolute-run-augsburg.de/wp-content/uploads/2024/08/True-Motion_Logo_white-2048x1028-1.png
END:VEVENT
BEGIN:VEVENT
DTSTART;TZID=Europe/Berlin:20240725T173000
DTEND;TZID=Europe/Berlin:20240725T210000
DTSTAMP:20260425T143612
CREATED:20240701T094709Z
LAST-MODIFIED:20240704T114137Z
UID:1552-1721928600-1721941200@absolute-run-augsburg.de
SUMMARY:Community Run mit Karhu Testschuhen
DESCRIPTION:[vc_single_image image=“1557″ img_size=“Medium“]Testet mit uns die neuesten Karhu Laufschuhe
URL:https://absolute-run-augsburg.de/veranstaltungen/community-run-mit-karhu-testschuhen/
END:VEVENT
BEGIN:VEVENT
DTSTART;TZID=Europe/Berlin:20240711T173000
DTEND;TZID=Europe/Berlin:20240711T210000
DTSTAMP:20260425T143612
CREATED:20240701T094255Z
LAST-MODIFIED:20240704T114732Z
UID:1549-1720719000-1720731600@absolute-run-augsburg.de
SUMMARY:Community Run mit Asics
DESCRIPTION:[vc_single_image image=“1562″ img_size=“medium“]Teste die neuesten Modelle von Asics. Unter anderem den Superblast2…. \nWeitere Infos folgen
URL:https://absolute-run-augsburg.de/veranstaltungen/community-run-mit-asics/
END:VEVENT
BEGIN:VEVENT
DTSTART;TZID=Europe/Berlin:20240613T173000
DTEND;TZID=Europe/Berlin:20240613T210000
DTSTAMP:20260425T143612
CREATED:20240523T121852Z
LAST-MODIFIED:20240523T123148Z
UID:1523-1718299800-1718312400@absolute-run-augsburg.de
SUMMARY:CommunityRun Special #Project16
DESCRIPTION:[vc_single_image image=“1524″ img_size=“Medium“]Am Donnerstag\, den 13.06.2024\, ist das Team von @brooksrunningde zu Gast und hat die neuesten Testschuhe im Gepäck\, u.a. den brandneuen Ghost 16!\nAußerdem gibt es ein Meet & Greet mit @ultrarunnerpaw \, der im Rahmen vom #BrooksProject16 in 16 Tagen von Flensburg bis zur Zugspitze läuft. Seid mit dabei & let’s run there! Wir begleiten Ihn auf dem Schlußstück seiner #etappe bis zur Sportanlage Süd und laufen von dort dann wieder zurück zum Laden.\nIm Anschluss gibt es dann noch @erdingeralkoholfrei.de und Snacks.\nBitte meldet euch vorab bei uns an – wir freuen uns auf euch! \nDie Testschuhausgabe startet um 17:30 Uhr. Um 18:00 Uhr laufen wir los.
URL:https://absolute-run-augsburg.de/veranstaltungen/1523/
END:VEVENT
BEGIN:VEVENT
DTSTART;TZID=Europe/Berlin:20240605T173000
DTEND;TZID=Europe/Berlin:20240605T213000
DTSTAMP:20260425T143612
CREATED:20240517T130752Z
LAST-MODIFIED:20240517T130752Z
UID:1497-1717608600-1717623000@absolute-run-augsburg.de
SUMMARY:Global Running Day mit Brooks Test & Try
DESCRIPTION:[vc_single_image image=“1498″ img_size=“medium“]Am Mittwoch\, den 05.06.2024\, findet der Global Running Day statt. Diesen Tag wollen wir natürlich gemeinsam mit euch feiern. 🎉 \nDas Team von @brooksrunningde ist an diesem Tag mit dabei und hat ihre neuesten Testschuhe im Gepäck. \nAb 18 Uhr geht es los – Let’s run there! \nAußerdem gibt es ab 18:45 Uhr ein Instagram-Live für diejenigen\, die nicht mit vor Ort sein können. \n 
URL:https://absolute-run-augsburg.de/veranstaltungen/global-running-day-mit-brooks-test-try/
END:VEVENT
BEGIN:VEVENT
DTSTART;TZID=Europe/Berlin:20240523T173000
DTEND;TZID=Europe/Berlin:20240523T210000
DTSTAMP:20260425T143612
CREATED:20240517T115320Z
LAST-MODIFIED:20240517T115320Z
UID:1491-1716485400-1716498000@absolute-run-augsburg.de
SUMMARY:Asics Testrun
DESCRIPTION:[vc_single_image image=“1492″ img_size=“medium“]Move your mind with ASICS \nTeste jetzt den brandneuen METASPEED SKY PARIS bei unserem Community Run Event\, zusammen mit unserem Partner Asics. Mit dabei sind auch: Der neue GEL-NIMBUS  26\,  NOVABLAST 4  und viele weitere Highlights. \nDie Schuhausgabe startet wie immer um 17:30 Uhr. Ab 18:00 Uhr laufen wir los.
URL:https://absolute-run-augsburg.de/veranstaltungen/asics-testrun/
END:VEVENT
BEGIN:VEVENT
DTSTART;TZID=Europe/Berlin:20240504T170000
DTEND;TZID=Europe/Berlin:20240504T200000
DTSTAMP:20260425T143612
CREATED:20240325T170024Z
LAST-MODIFIED:20240425T141654Z
UID:1418-1714842000-1714852800@absolute-run-augsburg.de
SUMMARY:Intersana Community Run Special mit Saucony Testschuhen
DESCRIPTION:Teste die neuesten Modelle von Saucony und laufe mit uns gemeinsam die Strecke des M-Net Firmenlaufs. Im Anschluss findet jeweils noch ein gemütlicher Austausch mit Snacks & Getränken statt. Für den Communityrun ist kein Ticket notwendig. \nDie ersten 25 Anmeldungen erhalten jeweils ein kostenloses Tagesticket für die Messe. \n[vc_single_image image=“1414″ img_size=“large“]
URL:https://absolute-run-augsburg.de/veranstaltungen/intersana-community-run-special/
LOCATION:Messezentrum Augsburg\, Am Messezentrum 5\, Augsburg\, Bayern\, 86159\, Deutschland
END:VEVENT
BEGIN:VEVENT
DTSTART;TZID=Europe/Berlin:20240503T170000
DTEND;TZID=Europe/Berlin:20240503T190000
DTSTAMP:20260425T143612
CREATED:20240325T170058Z
LAST-MODIFIED:20240425T141822Z
UID:1413-1714755600-1714762800@absolute-run-augsburg.de
SUMMARY:Intersana Community Run Special mit On Testschuhen
DESCRIPTION:Teste die neuesten Modelle von ON  und laufe mit uns gemeinsam die Strecke des M-Net Firmenlaufs. Im Anschluss findet jeweils noch ein gemütlicher Austausch mit Snacks & Getränken statt. Für den Communityrun ist kein Ticket notwendig. \nDie ersten 25 Anmeldungen erhalten jeweils ein kostenloses Tagesticket für die Messe. \n[vc_single_image image=“1414″ img_size=“large“]
URL:https://absolute-run-augsburg.de/veranstaltungen/intersana-community-run-special-2/
LOCATION:Messezentrum Augsburg\, Am Messezentrum 5\, Augsburg\, Bayern\, 86159\, Deutschland
END:VEVENT
BEGIN:VEVENT
DTSTART;TZID=Europe/Berlin:20240417T183000
DTEND;TZID=Europe/Berlin:20240417T210000
DTSTAMP:20260425T143612
CREATED:20240220T074750Z
LAST-MODIFIED:20240220T074950Z
UID:1357-1713378600-1713387600@absolute-run-augsburg.de
SUMMARY:Brooks Run Bra Party
DESCRIPTION:Liebe Läuferinnen\,\nam 17.04.24 haben wir für euch wieder die Experten von @brooksrunningde bei uns zu Gast. Schnappt euch eure Laufpartnerin und werdet teil eines informativen und geselligen Abends.\nErfahrt alles über Sport BH´s\, welche Größe ihr braucht\, welches Modell das richtige ist und und und.\nWir freuen uns auf den gemeinsamen Abend. Für das leibliche Wohl wird natürlich auch gesorgt sein 🍾🥂 Den link zur kostenlosen Anmeldung findet ihr in unserer Story. \n[vc_single_image image=“1215″ img_size=“large“]
URL:https://absolute-run-augsburg.de/veranstaltungen/brooks-run-bra-party/
END:VEVENT
BEGIN:VEVENT
DTSTART;TZID=Europe/Berlin:20240411T173000
DTEND;TZID=Europe/Berlin:20240411T200000
DTSTAMP:20260425T143612
CREATED:20240325T170155Z
LAST-MODIFIED:20240325T170155Z
UID:1421-1712856600-1712865600@absolute-run-augsburg.de
SUMMARY:Community Run mit ON
DESCRIPTION:Mehr Dämpfung – Mehr Energie. \nDer Cloudmonster hat ein paar Updates bekommen und ist jetzt noch energetischer! Aber da das noch nicht reicht\, gibt es beim nächsten Community Run am 11. April zusätzlich was Brandneues\, Besonderes zu testen. Für alle\, die maximal viel Dämpfung und Energie möchten – um vielleicht diesen Sommer die eigenen Grenzen zu verschieben?\n\nWir treffen uns wie gewohnt ab 17:30 und laufen um 18:00 in verschiedenen Pacegruppen los – kein Race\, kein Trallala\, good vibes only. Und danach noch ne Limo\, bisschen Musik und paar Snacks.\n\nDas On Team freut sich auf euch!\n[vc_single_image image=“1422″ img_size=“large“]
URL:https://absolute-run-augsburg.de/veranstaltungen/community-run-mit-on/
LOCATION:Absolute Run Augsburg\, Steingasse 9\, Augsburg\, Bayern\, 86150
END:VEVENT
BEGIN:VEVENT
DTSTART;TZID=Europe/Berlin:20240321T173000
DTEND;TZID=Europe/Berlin:20240321T200000
DTSTAMP:20260425T143612
CREATED:20240315T093546Z
LAST-MODIFIED:20240315T093546Z
UID:1404-1711042200-1711051200@absolute-run-augsburg.de
SUMMARY:New Balance Test & Try Tour
DESCRIPTION:[vc_single_image image=“1405″ img_size=“large“]Teste den neuen Full Cell Rebel V4 und viele weiter Modelle. \nDie Testschuhausgabe startet um 17:30 Uhr. Ab 18:00 Uhr laufen wir in verschiedenen Tempogruppen eine ca. 5-8km lange Runde.
URL:https://absolute-run-augsburg.de/veranstaltungen/new-balance-test-try-tour/
END:VEVENT
END:VCALENDAR